BEGIN:VCALENDAR
VERSION:2.0
PRODID:-//Hunter College High School Alumnae/i Association - ECPv6.15.20//NONSGML v1.0//EN
CALSCALE:GREGORIAN
METHOD:PUBLISH
X-WR-CALNAME:Hunter College High School Alumnae/i Association
X-ORIGINAL-URL:https://hchsaa.org
X-WR-CALDESC:Events for Hunter College High School Alumnae/i Association
REFRESH-INTERVAL;VALUE=DURATION:PT1H
X-Robots-Tag:noindex
X-PUBLISHED-TTL:PT1H
BEGIN:VTIMEZONE
TZID:America/New_York
BEGIN:DAYLIGHT
TZOFFSETFROM:-0500
TZOFFSETTO:-0400
TZNAME:EDT
DTSTART:20190310T070000
END:DAYLIGHT
BEGIN:STANDARD
TZOFFSETFROM:-0400
TZOFFSETTO:-0500
TZNAME:EST
DTSTART:20191103T060000
END:STANDARD
BEGIN:DAYLIGHT
TZOFFSETFROM:-0500
TZOFFSETTO:-0400
TZNAME:EDT
DTSTART:20200308T070000
END:DAYLIGHT
BEGIN:STANDARD
TZOFFSETFROM:-0400
TZOFFSETTO:-0500
TZNAME:EST
DTSTART:20201101T060000
END:STANDARD
BEGIN:DAYLIGHT
TZOFFSETFROM:-0500
TZOFFSETTO:-0400
TZNAME:EDT
DTSTART:20210314T070000
END:DAYLIGHT
BEGIN:STANDARD
TZOFFSETFROM:-0400
TZOFFSETTO:-0500
TZNAME:EST
DTSTART:20211107T060000
END:STANDARD
BEGIN:DAYLIGHT
TZOFFSETFROM:-0500
TZOFFSETTO:-0400
TZNAME:EDT
DTSTART:20220313T070000
END:DAYLIGHT
BEGIN:STANDARD
TZOFFSETFROM:-0400
TZOFFSETTO:-0500
TZNAME:EST
DTSTART:20221106T060000
END:STANDARD
END:VTIMEZONE
BEGIN:VEVENT
DTSTART;TZID=America/New_York:20210518T170000
DTEND;TZID=America/New_York:20210518T180000
DTSTAMP:20260420T071323
CREATED:20210512T105643Z
LAST-MODIFIED:20210518T105603Z
UID:2911-1621357200-1621360800@hchsaa.org
SUMMARY:The Entrepreneur's Journey
DESCRIPTION:The life of an entrepreneur can be challenging\, but also quite rewarding. Join us as a panel of seasoned and newer entrepreneurs talk transparently about the good\, bad\, and ugly of entrepreneurship: How we got started\, how we raise money\, how we build teams\, how we build culture\, how we exited\, and lots more—including YOUR questions. \nThe panel will feature: Rob Berk ’16(Apprentice)\, Alex Friedman ’00 (LOLA)\, Dave Kerpen ’94 (Likeable\, Apprentice\, Kerpen Ventures)\, Pam Roach ’71 (Breakthrough Marketing Technology)\, and Zach Weinberg ’04(Invite Media (Google)\, Flatiron Health (Roche)). Ryder Kessler ’04 (DipJar) will be our moderator.  Sign up here.
URL:https://hchsaa.org/event/the-entrepreneurs-journey/
CATEGORIES:presentations
ATTACH;FMTTYPE=image/jpeg:https://hchsaa.org/wp-content/uploads/2021/05/05182021-entrepreneurs.jpg
END:VEVENT
BEGIN:VEVENT
DTSTART;TZID=America/New_York:20210511T180000
DTEND;TZID=America/New_York:20210511T190000
DTSTAMP:20260420T071323
CREATED:20210517T115343Z
LAST-MODIFIED:20210517T115343Z
UID:2930-1620756000-1620759600@hchsaa.org
SUMMARY:Hunter College Event: The Life and Art Collection of Hester Diamond
DESCRIPTION:Hester KLEIN Diamond\, Jan. ’46 (1928-2020) was a noted art collector\, interior designer\, and the mother of Mike D. of the Beastie Boys. An alumna of Hunter College as well as HCHS\, the College is presenting a discussion about this pioneering woman’s life and work.. \nTake part in what is certain to be a fascinating journey into the art world. Sign up here.
URL:https://hchsaa.org/event/hunter-college-event-the-life-and-art-collection-of-hester-diamond/
CATEGORIES:presentations
ATTACH;FMTTYPE=image/jpeg:https://hchsaa.org/wp-content/uploads/2021/05/hester-diamond-49.jpg
END:VEVENT
BEGIN:VEVENT
DTSTART;TZID=America/New_York:20210429T180000
DTEND;TZID=America/New_York:20210429T200000
DTSTAMP:20260420T071323
CREATED:20210425T203901Z
LAST-MODIFIED:20210425T203901Z
UID:2880-1619719200-1619726400@hchsaa.org
SUMMARY:The Basics of Investing and Impact Investing with the Financial Women’s Association of NY
DESCRIPTION:Are you a recent alumni and have particiapted in Financial Backpac programs and wanted to learn more? Are you an alumni and have heard about this program and wanted to see what it is all about? You are in luck\, as the Financial Women’s Association is coming to us with their Basics of Investing and Impact Investing presentations. \nCome\, hear Lindsay Starr\, Managing Director\, Morgan Stanley\, Prospect Management and Client Coverage\nSuzanne Matthews\, Director\, Center for Financial & Economic Education and Adjunct Professor – Business Department\, Westchester Community College\nPat Addeo\, Senior Associate\, Wealth Management\, Veris Wealth Partners \nSign up now!
URL:https://hchsaa.org/event/the-basics-of-investing-and-impact-investing-with-the-financial-womens-association-of-ny/
CATEGORIES:presentations
ATTACH;FMTTYPE=image/jpeg:https://hchsaa.org/wp-content/uploads/2021/04/financial-seminar.jpg
END:VEVENT
BEGIN:VEVENT
DTSTART;TZID=America/New_York:20210426T150000
DTEND;TZID=America/New_York:20210426T160000
DTSTAMP:20260420T071323
CREATED:20210411T222837Z
LAST-MODIFIED:20210411T222837Z
UID:2522-1619449200-1619452800@hchsaa.org
SUMMARY:Life in the Time of Corona Group Discussion
DESCRIPTION:Life in the time of Corona group discussion led by Carole Brafman ‘57\, M.D. Please check your email for details. If you are not a member of this group and you are interested\, please let us know.
URL:https://hchsaa.org/event/life-in-the-time-of-corona-group-discussion-2/
CATEGORIES:pandemic
ATTACH;FMTTYPE=image/png:https://hchsaa.org/wp-content/uploads/2021/03/CarolBrafman.png
END:VEVENT
BEGIN:VEVENT
DTSTART;TZID=America/New_York:20210422T190000
DTEND;TZID=America/New_York:20210422T200000
DTSTAMP:20260420T071323
CREATED:20210316T044933Z
LAST-MODIFIED:20210422T152017Z
UID:2339-1619118000-1619121600@hchsaa.org
SUMMARY:DMV Happy Hour
DESCRIPTION:Join us for a wide-ranging discussion on the status of arts organizations in the Washington\, DC area in the era of COVID-19. Our special guest will be Jenny Bilfield\, president and CEO of Washington Performing Arts\, WPA\, one of the premier arts organizations in DC. Jenny\, who happens to be the daughter of HCES and HCHS alumna Mildred Liebowitz ’39\, will share some of the creative ways WPA has reinvented itself in light of the pandemic and the need to engage audiences virtually. One of our DMV facilitators\, Leslie Luxemburg ‘64\, who is president of the Friday Morning Music Club\, a large multi faceted volunteer arts organization composed of classically trained musicians\, will share how her organization has maintained its status quo. Marie KORN Cohen ’75  will contribute how the Washington Balalaika Society\, of which she is a board member\, has been surviving as a small\, non professional group. \nCo-hosts Sheila Anderson ’80 and Leslie Luxemburg ’64 invite people active in other arts organizations\, members of choral groups\, theater troupes\, church choirs\, orchestras\, etc. to join the discussion and share how they have been coping during this past year. As a participant or audience member\, what do you most look forward to when we return to some semblance of normalcy in the entertainment realm? \nPlease join us for what is sure to be a fascinating and informative hour! Sign up now.
URL:https://hchsaa.org/event/dmv-happy-hour/
CATEGORIES:happy hour
ATTACH;FMTTYPE=image/jpeg:https://hchsaa.org/wp-content/uploads/2021/03/SheilaandLeslie.jpg
END:VEVENT
BEGIN:VEVENT
DTSTART;TZID=America/New_York:20210415T183000
DTEND;TZID=America/New_York:20210415T200000
DTSTAMP:20260420T071323
CREATED:20210513T123752Z
LAST-MODIFIED:20210513T123917Z
UID:2924-1618511400-1618516800@hchsaa.org
SUMMARY:Diversity Roundtable Discussion #2: Creating and Sustaining Equitable Admissions
DESCRIPTION:In the last few decades\, Black\, Latinx\, and low-income representation in the Hunter College High School student body has declined and does not reflect that of the city it serves. Students are denied an excellent education in an environment that does not support diversity\, equity\, and inclusion. \nIn this next presentation\, which is the second in a three-part series\, we will focus specifically on admission issues facing HCHS and other gifted educational institutions around the country. \nSpeakers include Dr. Rebecca Deans\, HCHS Faculty Member\, English/Communication and Theatre; Mari HOASHI Franklin ’84\, Chair\, Diversity Recruitment Subcommittee; Brian Scott ’83\, Chair\, Huston-Tillotson University (HBCU) Advisory Board; Kyla KUPFERSTEIN Torres ’92\, former HCHS Director of Admissions; and current Hunter students Aruna D. ’22\, Mia M. ’21\, and Durga S. ’21. \nRegister here: https://bit.ly/3mbsy9q
URL:https://hchsaa.org/event/diversity-roundtable-discussion-2-creating-and-sustaining-equitable-admissions/
CATEGORIES:diversity
ATTACH;FMTTYPE=image/jpeg:https://hchsaa.org/wp-content/uploads/2021/05/hchsaa-diversity-roundtable-discussions.jpg
END:VEVENT
BEGIN:VEVENT
DTSTART;TZID=America/New_York:20210407T153000
DTEND;TZID=America/New_York:20210407T153000
DTSTAMP:20260420T071323
CREATED:20210315T125802Z
LAST-MODIFIED:20210321T011221Z
UID:2325-1617809400-1617809400@hchsaa.org
SUMMARY:Holocaust Remembrance Day
DESCRIPTION:Join us to hear survivors’ stories first hand. Moderated by Lisa GOLDIN Rabinowicz ’59\, the panelists are Susanne KLEJMAN Bennet ’55\, Joan L. KENT Finkelstein ’54\, Eve KANNER Kugler Jan. ’49\,  and Edith TENNENBAUM Shapiro ’52\, M.D. \nWe will hear a short discussion by the panelists\, and then we will break into smaller groups to spend some time with one of the survivors to get more details on her stories. Then we will switch\, so everyone will have a chance to spend time with two survivors. Come and hear these stories first hand\, and keep remembering.  \nTo participate in the event\, please sign up for our Zoom meeting here\, or view the discussion on Facebook Live by going here. \n\n\n\n\n\nModerator: Lisa GOLDIN Rabinowicz ’59 \nLisa has an Honors Degree in Linguistics and Anthropology\, Univ of London\, work on masters of Mass Communications. Bachelor of Science\, University of Florida. She worked in TV news\, and now performs and participates in playreading. \nShe was born in Uzbekistan after her parents escaped from a shtetyl in Bela Rus Poland.  After World War II\, she was taken to DP-Displaced  Persons- in Germany. \nShe arrived in America on the last passenger voyage of USN ship\, Ernie Pyle\, a wonderful future and voyage for her small surviving family. She is a very grateful immigrant to the USA.   \n\n\n\n\n\nSusanne KLEJMAN Bennet ’55 \nI was born in 1938 in Warsaw\, the year before the Germans invaded Poland.  In 1940 my family was forced into the Warsaw Ghetto. Three generations of my family\, from a baby of 4 months through grandparents in their 60s were murdered in the Ghetto and in the gas chambers of the Treblinka extermination camp. I and my parents\, separated during part of the war\, survived to eventually come to the United States in 1950 and begin a new life. \n  \n\n\n\n\n\nJoan L. KENT Finkelstein ’54\, Ph.D. \nI arrived in NYC as a four-year-old in February 1941 completing an epic ten-month journey from Warsaw\, Poland\, with a 40-day voyage aboard an American ship from India.  \nWith a close family of storytellers and a large treasure trove of letters\, photographs\, and documents (including false papers) retrieved by my parents from their nine steamer trunks\, I reconstructed and discovered how they decided and then were actually able to leave Nazi-occupied Poland. Traveling through Italy and the Middle East\, we obtained immigration visas for America\, and finally reached American soil before their rapid expiration. Beyond the narrative of events\, my story also underlines those elements of luck\, luck again\, resilience\, and determination that underlie the survival of all of us who can now tell them. \n\n\n\n\n\nstrong>Eve KANNER Kugler Jan. ’49 \nI was born in Halle an der Saale\, [East] Germany. If you have trouble locating it\, look for Magdeburg or Leipzig. \nMy family\, parents\, older sister Ruth\, younger sister Lea and I went on waiting list for visas to Palestine in 1935 and were still waiting on Kristallnacht\, Nov. 9-10\, 1938 when Nazis created havoc in our apartment\, arrested my father and sent him to Buchenwald. The windows of his department store were smashed and our synagogue was torched. Based on a forged visa for France my father was released from Buchenwald after six weeks. Mother and children escaped to France in June 1939.  \nWith outbreak of World War II\, France interned my father; my mother placed us in a Jewish children’s home near Paris where she became a cook. When France surrendered\, we were evacuated to a children’s home near Limoges controlled by Vichi France. In 1941 Ruth and I joined a small Kindertransport to NY where we became foster children. With the roundup of Jews in 1942 the Resistance hid Lea. My parents survived in French concentration camps. The family was reunited in New York in 1947 after I became a Hunter student.
URL:https://hchsaa.org/event/holocaust-remembrance-day/
CATEGORIES:history
ATTACH;FMTTYPE=image/jpeg:https://hchsaa.org/wp-content/uploads/2021/03/Holocaustpanel2.jpg
END:VEVENT
BEGIN:VEVENT
DTSTART;TZID=America/New_York:20210322T150000
DTEND;TZID=America/New_York:20210322T150000
DTSTAMP:20260420T071323
CREATED:20210315T125047Z
LAST-MODIFIED:20210315T125047Z
UID:2323-1616425200-1616425200@hchsaa.org
SUMMARY:Life in the Time of Corona Group Discussion
DESCRIPTION:Life in the time of Corona group discussion led by Carole Brafman ‘57\, M.D. Please check your email for details. If you are not a member of this group and you are interested\, please let us know.
URL:https://hchsaa.org/event/life-in-the-time-of-corona-group-discussion/
CATEGORIES:pandemic
ATTACH;FMTTYPE=image/png:https://hchsaa.org/wp-content/uploads/2021/03/CarolBrafman.png
END:VEVENT
BEGIN:VEVENT
DTSTART;TZID=America/New_York:20210321T140000
DTEND;TZID=America/New_York:20210321T153000
DTSTAMP:20260420T071323
CREATED:20210321T014052Z
LAST-MODIFIED:20210913T203323Z
UID:2359-1616335200-1616340600@hchsaa.org
SUMMARY:Three Hunter Poets
DESCRIPTION:Join us on Zoom for an afternoon of poetry with Heather Dubrow ’62\, Erica Ehrenberg ’96\, and retired faculty member Kip Zegers. \nRegister here: https://us02web.zoom.us/j/89688977419?pwd=Zjc0NEszOHMrZzIrRkJLdktIQnFzQT09 \nHeather Dubrow\, John D. Boyd\, SJ\, Chair in Poetic Imagination at Fordham University\, is the author of two full-length collections of her poetry\, Forms and Hollows (Cherry Grove Collections) and Lost and Found Departments (published in August 2020 by Cornerstone Press)\, as well as of two chapbooks. One of her plays was produced by a community theater\, and two of her poems have been set to music and performed. Among the journals where her poetry has appeared are Prairie Schooner\, Southern Review\, Virginia Quarterly Review\, and The Yale Review. Her other publications include seven single-authored volumes of literary criticism. Between fall 2009 and summer 2020 she was director of Fordham’s Poets Out Loud reading series. You can order Lost and Found Departments here from Cornerstone Press or here from Amazon.  \nErica Ehrenberg’s poems have appeared in anthologies and journals including The Paris Review\, The New York Review of Books\, Slate\, The New Republic\, Everyman’s Library Pocket Poet Series\, Guernica\, Harvard Review Online\, The Mississippi Review\, The Bennington Review\, and The Los Angeles Review of Books Quarterly. She has been a Wallace Stegner Fellow in poetry at Stanford\, and a poetry fellow at the Fine Arts Work Center in Provincetown.  \nKip Zegers taught English at Hunter College High School from 1984 until 2017\, but he began writing poetry long before that\, in 1971. He has published numerous chapbooks and full-length books\, the last three\, The Poet of Schools (2010)\, The Pond in Room 318 (2015)\, and A Room in the House of Time (2020)\, with Dos Madres Press. The titles of these books reflect that much of Kip’s work has been about schools and his life as a teacher/poet. Kip’s poetry explores daily life and core human experiences. His continuing inspiration is the work of George Oppen. Kip’s recent books are available here from Dos Madres Press or here from Amazon.
URL:https://hchsaa.org/event/three-hunter-poets/
CATEGORIES:authors
ATTACH;FMTTYPE=image/jpeg:https://hchsaa.org/wp-content/uploads/2021/03/three-poets-03212021.jpg
END:VEVENT
BEGIN:VEVENT
DTSTART;TZID=America/New_York:20210318T183000
DTEND;TZID=America/New_York:20210318T200000
DTSTAMP:20260420T071323
CREATED:20210314T165315Z
LAST-MODIFIED:20210517T115447Z
UID:2301-1616092200-1616097600@hchsaa.org
SUMMARY:Roundtable Series on Diversity-Enhancing Reforms
DESCRIPTION:Thursday\, March 18\, 2021 6:30-8pm ET: Roundtable Series on Diversity-Enhancing Reforms\nSession 1: A review of admissions at HCHS and the status of admissions for the Class of 2027 \nIn the last few decades\, Black\, Latinx\, and low-income representation in the Hunter College High School student body has declined. Students are denied an excellent education in an environment that does not support diversity. Please join us for session one of a series of panel discussions focused on exploring the Diversity issues facing HCHS. \n\n\nWelcome by host\, Judith Daniel-George ’79\, Chair\, HCHSAA Diversity Committee\n\n\nBlack\, Latinx\, & lower socioeconomic students shared experiences—Chloe R. ’21　& Charles C. HCHS\n\n\nData about city demographics vs. HCHS—Mari HOASHI Franklin ’84 \n\n\nCurrent Process (HCHS Admin)—TBD \n\n\nPre-COVID Admissions Practice—TBD \n\n\nQualification—immediate pre-COVID & past years—TBD\n\n\nEntrance Exam Design and Scoring—TBD\n\n\nHistory of Inclusion at HCHS—TBD\n\n\nTo sign up now\, go here\, or view the discussion on our Facebook page here.
URL:https://hchsaa.org/event/roundtable-series-on-diversity-enhancing-reforms/
CATEGORIES:diversity
ATTACH;FMTTYPE=image/jpeg:https://hchsaa.org/wp-content/uploads/2021/05/hchsaa-diversity-roundtable-discussions.jpg
END:VEVENT
BEGIN:VEVENT
DTSTART;TZID=America/New_York:20210315T193000
DTEND;TZID=America/New_York:20210315T203000
DTSTAMP:20260420T071323
CREATED:20210314T152719Z
LAST-MODIFIED:20210314T171136Z
UID:2291-1615836600-1615840200@hchsaa.org
SUMMARY:2021 Comedy Discussion
DESCRIPTION:Do not miss this event\, this Monday! Note the time change!\nMarch 15\, 2021\, 7:30-8:30pm ET: 2021 Comedy Discussion \nHow do we manage living through a pandemic? Look to those individuals who can make fun of any situation! Spend an evening with Hunter-bred comedians who will discuss how they and their colleagues have fared in the midst of COVID-19. Join us for this unique event and hear how they have tried to create some levity in these trying times. Sure to have some laughs as well! \nModerated by Steve Hofstetter ’97\, the panelists are Charlie Bardey ’13\, Sachi Ezura ’04\, Claire Friedman ’03\, and Sophie Zucker ’11. \nTo participate in the event\, please sign up for our Zoom meeting here\, or view the discussion on Facebook Live by going here. For more information\, go to here. \n\n\n\n\nModerator: Steve Hofstetter ’97 \nHofstetter\, who has a whopping 150 million views on YouTube\, is also the host of Finding Babe Ruth on FS1. His book (Ginger Kid) is a top 5 pick on Amazon and debuted at number one in its category. Hofstetter was the host and executive producer of season one of Laughs (FOX) and he has been on The Late Late Show with Craig Ferguson and E! True Hollywood Story\, Comics Unleashed\, Comedy All-Stars\, Quite Frankly\, White Boyz in the Hood\, Countdown\, and more. He just filmed his 4th movie\, and he has had two top 20 comedy albums (including one that hit number 1 on iTunes comedy charts). He is a former columnist for Sports Illustrated and the NHL\, and has also written for Maxim and the New York Times\, among others. \n\n\n\n\nCharlie Bardey ’13 \nCharlie Bardey is a writer\, comedian\, and educator born and based in New York City. A graduate of Hunter College High School and Yale University\, Charlie currently works as an educator\, writer\, and comedian. As a stand-up\, Charlie has performed in venues like Caroline’s\, Union Hall\, and the Bell House\, and at colleges like Wesleyan University and American University. He has been profiled by Vulture Magazine\, and his tweets (@chunkbardey) have been featured in BuzzFeed\, Playboy\, a local newspaper called The Patch. He can be seen on the BuzzFeed series “Did You See This?” on the Comedy Central webseries “Ayo And Rachel Are Single”\, and in AMC’s upcoming satirical video game “Airplane Mode.” \n\n\n\n\nSachi Ezura ’04 \nSachi Ezura currently works as Senior Producer at The Greene Space\, a live event space for NY Public Radio. She also consults in development for Irony Point\, the production company behind I Think You Should Leave\, Astronomy Club and The Break with Michelle Wolf. She has produced on Refinery29’s After After Party\, BET’s The Rundown w/ Robin Thede\, and MTV’s Girl Code. She was Executive Producer of Development and Talent at Seriously.TV\, a digital comedy channel specializing in the intersection of comedy\, politics\, and social justice. She worked as Director of Original Programming at IFC\, where\, in addition to working on Documentary Now!\, Portlandia\, and Comedy Bang! Bang!\, she oversaw IFC’s digital platform\, Comedy Crib. As Manager of Development at MTV2\, she oversaw casting for MTV’s hit comedy series Guy Code and Girl Code. She also co-wrote the Girl Code book and has been published in The New Yorker’s Daily Shouts and The New York Post. She lives in New Jersey with her husband\, daughter and two cats\, one of which she likes. \n\n\n\n\nClaire Friedman ’03 \nClaire Friedman is an Emmy-nominated writer who won a Peabody award for her work on Saturday Night Live. She most recently served as a writer on Showtime’s Desus & Mero and frequently writes comedy pieces for the New Yorker. Before becoming a television writer\, Claire worked in development at FX Networks and served as the Executive-in-Charge of the Lip Sync Battle franchise for Paramount Network. From 2007-2012\, she worked as an Investment Banker at Goldman Sachs\, where she helped to fund entertainment and media companies. Claire was born and raised in New York City. She attended Harvard Business School and Harvard College\, where she was an editor on the Harvard Lampoon. \n\n\n\n\nSophie Zucker ’11 \nSophie Zucker is a comedian. She stars as Abby on Apple TV’s Dickinson\, opposite Hailee Steinfeld. She is also a writer on the show. Sophie has performed original work at Joe’s Pub\, Union Hall\, The Duplex\, Littlefield\, Brooklyn Comedy Collective\, Second City\, UCB\, Lyric Hyperion\, and Annoyance NY and trained at most of those places\, too. Other favorite TV/Film credits include The Marvelous Mrs. Maisel; the Mindy Kaling feature Late Night\, and Comedy Central’s The Other Two. She performs monthly with her all-female comedy collective Ladies Who Ranch at Union Hall. This year\, she wrote and starred in Mistressbate\, a pop musical about a masturbation scandal set at an all-girls private school. Right now\, she’s shooting Season 3 of Dickinson\, on which she also served as an Executive Story Editor\, and developing two shows with Phoebe Robinson’s production company Tiny Reparations and Cowboy Bear Ninja\, respectively. Sophie grew up in New York and attended Hunter College High School (2011). She went on to graduate from Oberlin College in 2015 with a BA in Religion and Creative Writing. She is down to hang out.
URL:https://hchsaa.org/event/2021-comedy-discussion/
CATEGORIES:comedy
ATTACH;FMTTYPE=image/jpeg:https://hchsaa.org/wp-content/uploads/2021/03/2021-comedy-discussion.jpg
END:VEVENT
BEGIN:VEVENT
DTSTART;TZID=America/New_York:20210308T190000
DTEND;TZID=America/New_York:20210308T200000
DTSTAMP:20260420T071323
CREATED:20210513T135409Z
LAST-MODIFIED:20210513T164916Z
UID:2926-1615230000-1615233600@hchsaa.org
SUMMARY:2021 Women History Month celebration
DESCRIPTION:This Monday\, March 8\, 2021\, 7-8pm ET: 2021 Women History Month celebration. Sponsored by the Diversity Committee \nDr. Khadijah Miller and Dr. Ernestine Duncan ’79 will discuss their book chapter\, “Negotiated Respectability\, the Looking Glass Self and Mrs. Michelle Obama.” The book\, Michelle Obama and the FLOTUS Effect: Platform\, Presence\, and Agency explores the role of the first African-American First Lady and considers her impending legacy on the American political landscape and society. \nMichelle Obama intentionally defined her role and herself in ways that countered and complemented the images and works of previous First Ladies. Together\, as FLOTUS and President of the United States\, Michelle and Barack Obama reframed the view and evidenced the possibility of a strong Black man and Black woman\, co-existing and thriving individually and collectively. Her initiatives\, which were consistent with other first ladies\, were established to improve the quality of life for all Americans. The strategies she used were crafted to influence and empower rather than denigrate and divide. Through her accomplishments as a woman\, a mother\, a Black woman\, and FLOTUS\, Michelle Obama has stood straight in the ‘crooked room’ of America\, and American culture is evermore changed. \nIf you missed the discussion\, a video recordng is available on YouTube.
URL:https://hchsaa.org/event/2021-women-history-month-celebration/
CATEGORIES:diversity,presentations
ATTACH;FMTTYPE=image/jpeg:https://hchsaa.org/wp-content/uploads/2021/05/flotus-effect-2.jpg
END:VEVENT
BEGIN:VEVENT
DTSTART;TZID=America/New_York:20201022T180000
DTEND;TZID=America/New_York:20201022T180000
DTSTAMP:20260420T071323
CREATED:20210518T023251Z
LAST-MODIFIED:20210518T025648Z
UID:2943-1603389600-1603389600@hchsaa.org
SUMMARY:Jeannie SUK Gersen '91 interviews Sarah Kovner '91
DESCRIPTION:Jeannie SUK Gersen ’91\, D.Phil and J.D.\, Professor of Law\, Harvard Law school\, will interview Sarah Kovner ’91\, Ph. D.\, Senior Research Scholar in the Arnold A. Saltzman Institute of War and Peace Studies; Adjunct Professor of International and Public Affairs\, about her new book\, Prisoners of the Empire coming out in September. A pathbreaking account of World War II POW camps\, challenging the longstanding belief that the Japanese Empire systematically mistreated Allied prisoners\, it has been hailed as “a major work of original scholarship\,” (Sabine Frühstück) that is  “elegantly written and compulsively readable” (Nick Kapur). \nTo participate in the event\, please sign up for our Zoom meeting here\, or view the discussion on Facebook Live by going here. Buy a raffle ticket below for a chance to win an autographed copy of Prisoners of the Empire. All proceeds will go to support the high school. (Raffle sales closing at midnight on October 20th). \nSarah Kovner is a Senior Research Scholar at Columbia University. She has been a Fellow in International Security Studies at Yale University and an Associate Professor of History at the University of Florida. Kovner’s first book\, Occupying Power: Sex Workers and Servicemen in Postwar Japan\, was a Choice Outstanding Academic Title\, and won the best book prize of the Southeast Conference Association for Asian Studies. Kovner received her A.B. from Princeton University and her Ph.D. from Columbia\, and also studied at Kyoto University and the University of Tokyo. She lives on the Upper West Side with her family. \nJeannie Suk Gersen is the John H. Watson\, Jr. Professor of Law at Harvard Law School. She teaches and writes on a wide range of subjects including Constitutional Law\, Criminal Law and Procedure\, Family Law\, Sexual Assault and Harassment\, and Title IX.  She has been a recipient of a Guggenheim Fellowship and Harvard Law School’s Sacks-Freund Award for Teaching Excellence. She is a contributing writer to the New Yorker.
URL:https://hchsaa.org/event/2020sarahkovner/
CATEGORIES:interviews
ATTACH;FMTTYPE=image/jpeg:https://hchsaa.org/wp-content/uploads/2021/05/jeannie-suk-sarah-kovner.jpg
END:VEVENT
END:VCALENDAR