BEGIN:VCALENDAR
VERSION:2.0
PRODID:-//Hunter College High School Alumnae/i Association - ECPv6.15.20//NONSGML v1.0//EN
CALSCALE:GREGORIAN
METHOD:PUBLISH
X-ORIGINAL-URL:https://hchsaa.org
X-WR-CALDESC:Events for Hunter College High School Alumnae/i Association
REFRESH-INTERVAL;VALUE=DURATION:PT1H
X-Robots-Tag:noindex
X-PUBLISHED-TTL:PT1H
BEGIN:VTIMEZONE
TZID:America/New_York
BEGIN:DAYLIGHT
TZOFFSETFROM:-0500
TZOFFSETTO:-0400
TZNAME:EDT
DTSTART:20230312T070000
END:DAYLIGHT
BEGIN:STANDARD
TZOFFSETFROM:-0400
TZOFFSETTO:-0500
TZNAME:EST
DTSTART:20231105T060000
END:STANDARD
BEGIN:DAYLIGHT
TZOFFSETFROM:-0500
TZOFFSETTO:-0400
TZNAME:EDT
DTSTART:20240310T070000
END:DAYLIGHT
BEGIN:STANDARD
TZOFFSETFROM:-0400
TZOFFSETTO:-0500
TZNAME:EST
DTSTART:20241103T060000
END:STANDARD
BEGIN:DAYLIGHT
TZOFFSETFROM:-0500
TZOFFSETTO:-0400
TZNAME:EDT
DTSTART:20250309T070000
END:DAYLIGHT
BEGIN:STANDARD
TZOFFSETFROM:-0400
TZOFFSETTO:-0500
TZNAME:EST
DTSTART:20251102T060000
END:STANDARD
END:VTIMEZONE
BEGIN:VEVENT
DTSTART;TZID=America/New_York:20240419T160000
DTEND;TZID=America/New_York:20240419T180000
DTSTAMP:20260420T070004
CREATED:20240308T204107Z
LAST-MODIFIED:20240413T180528Z
UID:5857-1713542400-1713549600@hchsaa.org
SUMMARY:Heart of Hunter Part II
DESCRIPTION:In keeping with our mission to serve\, connect\, engage\, and educate we explore the topic of heart wellbeing and maintenance with the two of the nation’s prominent cardiologists:\nDr. Nanette K. Wenger ’49 \nDr. Annabelle Santos Volgman ’76 \nDr. Stacey Rosen\, AHA President-elect \nFriday\, April 19\, 2024\nlocation: Hunter College\, The Hemmerdinger Screening Room East Building Room 706 (virtual streaming available)\ntime: 3:30 – 5 pm\ncost: Free / Donation Encouraged\nPlease RSVP by April 12\ninfo@hchsaa.org or text/call Lorna Malcolm at (646) 988-5678
URL:https://hchsaa.org/event/heart-of-hunter-part-ii/
CATEGORIES:presentations
ATTACH;FMTTYPE=image/jpeg:https://hchsaa.org/wp-content/uploads/2024/03/HCHSAA-HoH-Email5.jpg
END:VEVENT
END:VCALENDAR