BEGIN:VCALENDAR
VERSION:2.0
PRODID:-//Hunter College High School Alumnae/i Association - ECPv6.15.20//NONSGML v1.0//EN
CALSCALE:GREGORIAN
METHOD:PUBLISH
X-ORIGINAL-URL:https://hchsaa.org
X-WR-CALDESC:Events for Hunter College High School Alumnae/i Association
REFRESH-INTERVAL;VALUE=DURATION:PT1H
X-Robots-Tag:noindex
X-PUBLISHED-TTL:PT1H
BEGIN:VTIMEZONE
TZID:America/New_York
BEGIN:DAYLIGHT
TZOFFSETFROM:-0500
TZOFFSETTO:-0400
TZNAME:EDT
DTSTART:20230312T070000
END:DAYLIGHT
BEGIN:STANDARD
TZOFFSETFROM:-0400
TZOFFSETTO:-0500
TZNAME:EST
DTSTART:20231105T060000
END:STANDARD
BEGIN:DAYLIGHT
TZOFFSETFROM:-0500
TZOFFSETTO:-0400
TZNAME:EDT
DTSTART:20240310T070000
END:DAYLIGHT
BEGIN:STANDARD
TZOFFSETFROM:-0400
TZOFFSETTO:-0500
TZNAME:EST
DTSTART:20241103T060000
END:STANDARD
BEGIN:DAYLIGHT
TZOFFSETFROM:-0500
TZOFFSETTO:-0400
TZNAME:EDT
DTSTART:20250309T070000
END:DAYLIGHT
BEGIN:STANDARD
TZOFFSETFROM:-0400
TZOFFSETTO:-0500
TZNAME:EST
DTSTART:20251102T060000
END:STANDARD
END:VTIMEZONE
BEGIN:VEVENT
DTSTART;TZID=America/New_York:20240504T130000
DTEND;TZID=America/New_York:20240504T170000
DTSTAMP:20260422T085700
CREATED:20240318T164839Z
LAST-MODIFIED:20240318T164839Z
UID:6037-1714827600-1714842000@hchsaa.org
SUMMARY:Brooklyn BBQ and Drinks!
DESCRIPTION:Hosted by lan Wright ’90 and Maria CARDONA Wright ’90. Full address will be shared once you have RSVP’d. Space is limited to first 50 people. \nRSVP BY FRIDAY\, 4/26 \nPlease email info@hchsaa.org or call Lorna Malcolm at 646-988-5678. \nSEE YOU IN BROOKLYN!
URL:https://hchsaa.org/event/brooklyn-bbq-and-drinks-2/
ATTACH;FMTTYPE=image/png:https://hchsaa.org/wp-content/uploads/2024/03/HCHSAA-BK24-Square.png
END:VEVENT
BEGIN:VEVENT
DTSTART;TZID=America/New_York:20240509T183000
DTEND;TZID=America/New_York:20240509T203000
DTSTAMP:20260422T085700
CREATED:20240318T172344Z
LAST-MODIFIED:20240318T172344Z
UID:6057-1715279400-1715286600@hchsaa.org
SUMMARY:See You in San Francisco
DESCRIPTION:In our ongoing efforts to serve\, connect\, engage\, and educate\, the HCHSAA cordially invites you for a San Francisco area Alumnae/i Reception. \nPlease join us at the home of alumnus Jonathan Plotzker-Kelly ’82 in Oakland\, CA \nFull address will be shared once you have RSVP’d. \nR SVP BY TH U R S DAY\, 5/2 \nPlease email info@hchsaa.org or call Lorna Malcolm at 646-988-5678.
URL:https://hchsaa.org/event/see-you-in-san-francisco/
CATEGORIES:alumnae/i
ATTACH;FMTTYPE=image/png:https://hchsaa.org/wp-content/uploads/2024/03/san-fran.png
END:VEVENT
BEGIN:VEVENT
DTSTART;VALUE=DATE:20240531
DTEND;VALUE=DATE:20240603
DTSTAMP:20260422T085700
CREATED:20240306T205752Z
LAST-MODIFIED:20240528T140836Z
UID:5730-1717113600-1717372799@hchsaa.org
SUMMARY:HCHS Alum Reunion 2024
DESCRIPTION:Please see below for online registration. Contact Reunion@hchsaa.com for more information \nDate and Locations\n\nFriday May 31\, 2024 4pm -8pm – Welcome Reception Location: Orsay Restaurant\, 1057 Lexington Ave\, New York\, NY 10021. \nSaturday\, June 1\, 2024 9am – Location: Hunter College High School\, 71 East 94th Street\, New York\, NY 10128\nSunday June 2\, 2024 11:30am – 2:30pm – All Class Brunch Location: Orsay Restaurant\, 1057 Lexington Ave\, New York\, NY 10021. \n\n ONLY ATTENDING THE ANNUAL MEETING IS FREE! \n\nEarly Registration\nEarly bird pricing available until May 5\, 2024\n\n			\n				\n				\n				\n				\n				Accommodation Information\n				HCHSAA in partnership with Voco The Franklin New York Hotel has a block: Hunter College High School Alumni:  The Franklin New York (ihg.com) from 5/30/24 – 6/3/24. A 3-night minimum stay is required. RESERVATIONS MUST BE MADE BY APRIL 19\, 2024.  \nThe Franklin New York164 East 87 StreetNew York New York 10128 212-369-1000 \nPlease use the code Hunter College High School Alumni when making your reservation. \nReserve your room by May 3\, 2023 \n			\n			\n				\n				\n				\n				\n				\n				\n					\n					\n					\n				\n				\n					\n					\n					\n				\n				\n					\n					\n					\n				\n				\n					\n					\n					\n				\n				\n					\n					\n					\n				\n				\n					\n					\n					\n				\n				\n					\n					\n					\n				\n				\n				Download the schedule of events\n			\n				Download Registration Mail In Form
URL:https://hchsaa.org/event/hchs-alum-reunion-2024/
CATEGORIES:reunion
ATTACH;FMTTYPE=image/jpeg:https://hchsaa.org/wp-content/uploads/2024/03/HCHSAA-24Reunion-Email-e1713015587118.jpg
END:VEVENT
BEGIN:VEVENT
DTSTART;TZID=America/New_York:20240531T160000
DTEND;TZID=America/New_York:20240531T200000
DTSTAMP:20260422T085700
CREATED:20240513T200221Z
LAST-MODIFIED:20240528T140423Z
UID:6626-1717171200-1717185600@hchsaa.org
SUMMARY:HCHS Reunion - Fireside Chat
DESCRIPTION:
URL:https://hchsaa.org/event/hchs-reunion-fireside-chat/
LOCATION:Orsay Restaurant\, 1057 Lexington Ave\, New York\, NY\, 10021
CATEGORIES:reunion
END:VEVENT
END:VCALENDAR